

BEGIN:VCALENDAR
VERSION:2.0
PRODID:-//Agence de l’Eau du Gourma (AEG) - ECPv5.6.0//NONSGML v1.0//EN
CALSCALE:GREGORIAN
METHOD:PUBLISH
X-WR-CALNAME:Agence de l’Eau du Gourma (AEG)
X-ORIGINAL-URL:https://site.eaugourma.bf
X-WR-CALDESC:évènements pour Agence de l’Eau du Gourma (AEG)
BEGIN:VTIMEZONE
TZID:Africa/Ouagadougou
BEGIN:STANDARD
TZOFFSETFROM:+0000
TZOFFSETTO:+0000
TZNAME:GMT
DTSTART:20200101T000000
END:STANDARD
END:VTIMEZONE
BEGIN:VEVENT
DTSTART;TZID=Africa/Ouagadougou:20201123T080000
DTEND;TZID=Africa/Ouagadougou:20201126T170000
DTSTAMP:20210828T005821
CREATED:20200714T081127Z
LAST-MODIFIED:20200714T081127Z
UID:694-1606118400-1606410000@site.eaugourma.bf
SUMMARY:Tenue de la deuxième session du Conseil d’Administration de l’AEG
DESCRIPTION:
URL:https://site.eaugourma.bf/event/tenue-de-la-deuxieme-session-du-conseil-dadministration-de-laeg/
LOCATION:Ouagadougou\, Burkina Faso
ATTACH;FMTTYPE=image/jpeg:https://site.eaugourma.bf/wp-content/uploads/2020/06/a-tenue-premiere-session-CA-AEG.jpg
END:VEVENT
END:VCALENDAR